BEGIN:VCALENDAR
VERSION:2.0
PRODID:-//wp-events-plugin.com//7.2.3.1//EN
TZID:Europe/Paris
X-WR-TIMEZONE:Europe/Paris
BEGIN:VEVENT
UID:92@digne-parapente.fr
DTSTART;TZID=Europe/Paris;VALUE=DATE:20261026
DTEND;TZID=Europe/Paris;VALUE=DATE:20261101
DTSTAMP:20260405T223305Z
URL:https://digne-parapente.fr/events/stage-parapente-andalousie-3/
SUMMARY:Stage parapente Andalousie
DESCRIPTION:Stage parapente Andalousie : deux semaines à Grenade dédiées
  aux pilotes autonomes\, avec vols quotidiens et coaching personnalisé.\n
 Envie de soleil\, de vols généreux et de convivialité ? Rejoignez-nous 
 pour deux semaines de stage parapente en Andalousie\, à Grenade\, spécia
 lement conçu pour les pilotes autonomes.\n\nAu programme\n\n 	\nVols quot
 idiens sur les plus beaux sites autour de Grenade\, face à la Sierra Neva
 da.\n\n 	\nMétéo généreuse et conditions thermiques idéales pour affi
 ner votre technique et prolonger vos temps de vol.\n\n 	\nEncadrement pers
 onnalisé : optimisation en thermique\, gestion des transitions\, perfecti
 onnement du pilotage.\n\n 	\nAmbiance andalouse : en dehors des vols\, pro
 fitez de l’atmosphère chaleureuse de Grenade\, partagez des tapas et d
 écouvrez la culture locale.\n\n\nConditions – stage parapente Andalousi
 e (pilotes autonomes)\nCe stage s’adresse aux pilotes déjà autonomes (
 Brevet de Pilote ou équivalent)\, capables de voler seuls (minimum 30 min
 utes) en conditions établies et de gérer leur vol de manière responsabl
 e.L’objectif : affiner les choix aérologiques et gagner en efficacité 
 en thermique.\n\nHébergement &amp\; repas\nL’hébergement et les repas 
 ne sont pas inclus : chacun organise son séjour. Nous vous partagerons de
 s adresses conseillées et des recommandations pour profiter pleinement de
  Grenade.\n\nPourquoi ce stage ?\nParce que voler en Andalousie\, c’est 
 vivre un parapente intensif et ensoleillé\, dans une ambiance conviviale\
 , avec le plaisir de découvrir une culture riche et gourmande.\n\nQuestio
 ns fréquentes – stage parapente Andalousie\nQuel niveau faut-il avoir ?
 Pilote autonome (Brevet de Pilote ou équivalent). Le stage vise surtout l
 ’optimisation : lecture aérologique\, placement en thermique\, transiti
 ons et efficacité de pilotage.\nComment se déroule une journée type ?Br
 iefing météo\, choix du site\, navettes\, vols et débriefings. Le progr
 amme s’adapte aux conditions pour privilégier la sécurité et la progr
 ession.\nHébergement et repasNon inclus. Nous partageons des options sur 
 Grenade selon votre budget.\n\nRéservation\nChoisissez une date et valide
 z votre inscription. Si vous avez un doute (niveau\, matériel\, organisat
 ion)\, contactez-nous : on vous répond rapidement.\n&nbsp\;\n
END:VEVENT
BEGIN:VTIMEZONE
TZID:Europe/Paris
X-LIC-LOCATION:Europe/Paris
BEGIN:STANDARD
DTSTART:20261025T020000
TZOFFSETFROM:+0200
TZOFFSETTO:+0100
TZNAME:CET
END:STANDARD
END:VTIMEZONE
END:VCALENDAR