BEGIN:VCALENDAR
VERSION:2.0
PRODID:-//wp-events-plugin.com//7.2.3.1//EN
TZID:Europe/Paris
X-WR-TIMEZONE:Europe/Paris
BEGIN:VEVENT
UID:77@digne-parapente.fr
DTSTART;TZID=Europe/Paris;VALUE=DATE:20260525
DTEND;TZID=Europe/Paris;VALUE=DATE:20260530
DTSTAMP:20251223T004115Z
URL:https://digne-parapente.fr/events/stage-initiation-parapente-digne-3/
SUMMARY:Stage initiation parapente Digne | Digne Parapente
DESCRIPTION:\nStage d’initiation parapente à Digne-les-Bains (Alpes-de-H
 aute-Provence)Vous rêvez de voler de vos propres ailes ? Ce stage initiat
 ion parapente à Digne-les-Bains est conçu pour découvrir les bases en s
 écurité et progresser pas à pas : prise en main du matériel\, gonflage
 \, gestion de l’aile au sol\, et premières phases de vol selon votre ni
 veau et les conditions météo.\nPour qui ?\nDébutants (aucune expérienc
 e nécessaire) et pilotes en reprise souhaitant consolider les fondamentau
 x.\nObjectifs du stage\n\n\n 	\nConnaitre le matériel et les règles de s
 écurité\n\n 	\nApprendre le gonflage\, le contrôle de l’aile et le d
 écollage.\n\n 	\nProgresser sur la maîtrise au sol et les automatismes\n
 \n 	\nDécouvrir les bases du pilotage et de l’analyse météo locale\n\
 n\nMatériel &amp\; organisationLes voiles sont attribuées en fonction du
  poids : nous avons un nombre limité de chaque taille\, merci de réserve
 r en tenant compte de votre catégorie.Si votre catégorie est déjà comp
 lète\, nous pouvons parfois compléter temporairement le parc : contactez
  David au 06 83 05 67 10.\n\nQuestions fréquentes\nFaut-il une condition 
 physique particulière ?Pas besoin d’être un athlète : il faut surtout
  être à l’aise en extérieur et pouvoir marcher en terrain irrégulier
 . On adapte le rythme au groupe.\nEt si la météo n’est pas favorable ?
 La sécurité prime : on adapte le programme (travail au sol\, théorie) e
 t on reporte les phases de vol si nécessaire.\nQue prévoir ?Chaussures m
 ontantes\, coupe-vent\, eau\, encas\, lunettes. Gants selon la saison.\nR
 éservationChoisissez une date ci-dessous et validez votre inscription. En
  cas de doute (niveau\, matériel\, météo)\, appelez-nous : on vous orie
 nte.\n\n\n 	\nNiveau : débutant (aucune expérience requise)\n\n 	\nSécu
 rité : briefing\, radio et progression adaptée aux conditions\n\n 	\nPr
 évoir : chaussures montantes\, coupe-vent\, eau\, encas\, lunettes (gants
  selon saison)\n\n 	\nConditions : l’activité dépend de la météo \; 
 le programme s’adapte pour privilégier la progression et la sécurité\
 n\n 	\nRéservation : choisissez une date ci-dessous. Si vous avez un dout
 e (niveau\, poids\, disponibilité matériel)\, contactez-nous.\n\n\n&nbsp
 \;
CATEGORIES:Stage Initiation
END:VEVENT
BEGIN:VTIMEZONE
TZID:Europe/Paris
X-LIC-LOCATION:Europe/Paris
BEGIN:DAYLIGHT
DTSTART:20260329T030000
TZOFFSETFROM:+0100
TZOFFSETTO:+0200
TZNAME:CEST
END:DAYLIGHT
END:VTIMEZONE
END:VCALENDAR