BEGIN:VCALENDAR
VERSION:2.0
PRODID:-//wp-events-plugin.com//7.2.3.1//EN
TZID:Europe/Paris
X-WR-TIMEZONE:Europe/Paris
BEGIN:VEVENT
UID:81@digne-parapente.fr
DTSTART;TZID=Europe/Paris;VALUE=DATE:20260601
DTEND;TZID=Europe/Paris;VALUE=DATE:20260606
DTSTAMP:20251222T225546Z
URL:https://digne-parapente.fr/events/ensa-12/
SUMMARY:ENSA
DESCRIPTION:ENSA CE Prog
CATEGORIES:ENSA
END:VEVENT
BEGIN:VTIMEZONE
TZID:Europe/Paris
X-LIC-LOCATION:Europe/Paris
BEGIN:DAYLIGHT
DTSTART:20260329T030000
TZOFFSETFROM:+0100
TZOFFSETTO:+0200
TZNAME:CEST
END:DAYLIGHT
END:VTIMEZONE
END:VCALENDAR